BEGIN:VCALENDAR
VERSION:2.0
PRODID:-//Leaders In Energy - ECPv6.15.17.1//NONSGML v1.0//EN
CALSCALE:GREGORIAN
METHOD:PUBLISH
X-WR-CALNAME:Leaders In Energy
X-ORIGINAL-URL:https://leadersinenergy.org
X-WR-CALDESC:Events for Leaders In Energy
REFRESH-INTERVAL;VALUE=DURATION:PT1H
X-Robots-Tag:noindex
X-PUBLISHED-TTL:PT1H
BEGIN:VTIMEZONE
TZID:America/New_York
BEGIN:DAYLIGHT
TZOFFSETFROM:-0500
TZOFFSETTO:-0400
TZNAME:EDT
DTSTART:20190310T070000
END:DAYLIGHT
BEGIN:STANDARD
TZOFFSETFROM:-0400
TZOFFSETTO:-0500
TZNAME:EST
DTSTART:20191103T060000
END:STANDARD
BEGIN:DAYLIGHT
TZOFFSETFROM:-0500
TZOFFSETTO:-0400
TZNAME:EDT
DTSTART:20200308T070000
END:DAYLIGHT
BEGIN:STANDARD
TZOFFSETFROM:-0400
TZOFFSETTO:-0500
TZNAME:EST
DTSTART:20201101T060000
END:STANDARD
BEGIN:DAYLIGHT
TZOFFSETFROM:-0500
TZOFFSETTO:-0400
TZNAME:EDT
DTSTART:20210314T070000
END:DAYLIGHT
BEGIN:STANDARD
TZOFFSETFROM:-0400
TZOFFSETTO:-0500
TZNAME:EST
DTSTART:20211107T060000
END:STANDARD
END:VTIMEZONE
BEGIN:VEVENT
DTSTART;TZID=America/New_York:20200326T180000
DTEND;TZID=America/New_York:20200326T200000
DTSTAMP:20260421T040259
CREATED:20200303T073940Z
LAST-MODIFIED:20240924T063444Z
UID:12764-1585245600-1585252800@leadersinenergy.org
SUMMARY:Working Circular – March 26
DESCRIPTION:“Working Circular: Incorporating Circular Economy Principles in the Workplace”\nThursday\, March 26\, 6-8 PM at The Aspen Institute\nDon’t Miss: Essentials on Working Circular March 26 at the Aspen Institute \nYou are invited to join Leaders in Energy\, DC Ecowomen\, and The Aspen Institute Green Team for a workshop on sustainability in the workplace! Please find details below. \nFree and open to the public. Learn more and register here. \n“Circular economy” is a sustainability framework that aims to design out waste and pollution\, keep products and materials in use\, and regenerate natural systems. \nHere in the DMV region\, it can feel like we spend more time in our workplaces than anywhere else. This panel and workshop will dive into a huge topic — the circular economy — at a tangible\, workplace scale. On March 26 at 6pm\, join the Leaders in Energy Circular Economy Working Group\, DC EcoWomen\, and the Aspen Institute Green Team for a panel and workshop that will give tangible tools on how to implement circular economy principles at your workplace. \nSchedule:\n6-7 PM: Panel\, featuring circular economy experts: \n\nDanielle Njoko\, Sustainability Analyst at DC Department of Energy & Environment\nStephanie Potter\, Senior Director of Sustainability and Circular Economy Program at the US Chamber of Commerce Foundation\nShengyin Xu\, Global Sustainability Manager at World Resources Institute\nModerated by Clifford Deaton\, Co-Chair\, Aspen Institute Green Team and Chair\, Circular Economy Working Group\n\n7-8 PM: Interactive breakout sessions with topic experts from the US EPA\, American Geophysical Union\, Sierra Club\, Plastic Tree\, and more. Discussion topics will include: \n\nHow to conduct waste audits\nLow-to-no waste events\nCommon waste streams (eg: composting\, electronic waste\, etc)\nGreening buildings\nDriving change/entrepreneurship\n\nPlease register early as there is a limit on the number of participants. Register at: https://www.eventbrite.com/e/working-circular-integrating-circular-economy-principles-in-the-workplace-registration-90486275887 \nHope to see you and your green team there! If you don’t have a green team\, we’ll equip you to start one. 								\n				\n					\n		\n					\n		\n				\n						\n					\n			\n						\n				\n					REGISTER HERE
URL:https://leadersinenergy.org/event/working-circular-march-26/
CATEGORIES:Event
END:VEVENT
END:VCALENDAR