BEGIN:VCALENDAR
VERSION:2.0
PRODID:-//Leaders In Energy - ECPv6.15.17.1//NONSGML v1.0//EN
CALSCALE:GREGORIAN
METHOD:PUBLISH
X-WR-CALNAME:Leaders In Energy
X-ORIGINAL-URL:https://leadersinenergy.org
X-WR-CALDESC:Events for Leaders In Energy
REFRESH-INTERVAL;VALUE=DURATION:PT1H
X-Robots-Tag:noindex
X-PUBLISHED-TTL:PT1H
BEGIN:VTIMEZONE
TZID:America/New_York
BEGIN:DAYLIGHT
TZOFFSETFROM:-0500
TZOFFSETTO:-0400
TZNAME:EDT
DTSTART:20150308T070000
END:DAYLIGHT
BEGIN:STANDARD
TZOFFSETFROM:-0400
TZOFFSETTO:-0500
TZNAME:EST
DTSTART:20151101T060000
END:STANDARD
BEGIN:DAYLIGHT
TZOFFSETFROM:-0500
TZOFFSETTO:-0400
TZNAME:EDT
DTSTART:20160313T070000
END:DAYLIGHT
BEGIN:STANDARD
TZOFFSETFROM:-0400
TZOFFSETTO:-0500
TZNAME:EST
DTSTART:20161106T060000
END:STANDARD
BEGIN:DAYLIGHT
TZOFFSETFROM:-0500
TZOFFSETTO:-0400
TZNAME:EDT
DTSTART:20170312T070000
END:DAYLIGHT
BEGIN:STANDARD
TZOFFSETFROM:-0400
TZOFFSETTO:-0500
TZNAME:EST
DTSTART:20171105T060000
END:STANDARD
END:VTIMEZONE
BEGIN:VEVENT
DTSTART;TZID=America/New_York:20160420T180000
DTEND;TZID=America/New_York:20160420T203000
DTSTAMP:20260421T035546
CREATED:20171009T124521Z
LAST-MODIFIED:20240923T114515Z
UID:6947-1461175200-1461184200@leadersinenergy.org
SUMMARY:The Maker Economy And Local Manufacturing in the DC Metro Region
DESCRIPTION:Our event at the TechShop in Crystal City\, Arlington will focus on the maker economy and local manufacturing in the DC Metro region. We will have presentations by local business folks\, and then allow attendees to walk around the space and hear current TS members talk about their projects. \nOur goals are several:\n–introduce TechShop to a wider audience in the Arlington and DC Metro community;\n–showcase the wide variety of talent currently working at TS; and\n–provide a forum for business/professional networking among the TS members and attendees. \nRegistration is available here: https://conta.cc/1SB9uwh \nWe seek to attract a wide variety of attendees to include staff and members of the Arlington Business Improvement Districts (BIDs) and Economic Development offices around the DC Region\, other entrepreneurs\, possible investors\, and other groups looking to work with TechShop.
URL:https://leadersinenergy.org/event/the-maker-economy-and-local-manufacturing-in-the-dc-metro-region/
LOCATION:Tech Shop\, 2100-B Crystal City\, Arlington\, VA\, 22202\, United States
CATEGORIES:Event
END:VEVENT
END:VCALENDAR