BEGIN:VCALENDAR
VERSION:2.0
PRODID:-//Leaders In Energy - ECPv6.15.17.1//NONSGML v1.0//EN
CALSCALE:GREGORIAN
METHOD:PUBLISH
X-WR-CALNAME:Leaders In Energy
X-ORIGINAL-URL:https://leadersinenergy.org
X-WR-CALDESC:Events for Leaders In Energy
REFRESH-INTERVAL;VALUE=DURATION:PT1H
X-Robots-Tag:noindex
X-PUBLISHED-TTL:PT1H
BEGIN:VTIMEZONE
TZID:America/New_York
BEGIN:DAYLIGHT
TZOFFSETFROM:-0500
TZOFFSETTO:-0400
TZNAME:EDT
DTSTART:20180311T070000
END:DAYLIGHT
BEGIN:STANDARD
TZOFFSETFROM:-0400
TZOFFSETTO:-0500
TZNAME:EST
DTSTART:20181104T060000
END:STANDARD
BEGIN:DAYLIGHT
TZOFFSETFROM:-0500
TZOFFSETTO:-0400
TZNAME:EDT
DTSTART:20190310T070000
END:DAYLIGHT
BEGIN:STANDARD
TZOFFSETFROM:-0400
TZOFFSETTO:-0500
TZNAME:EST
DTSTART:20191103T060000
END:STANDARD
BEGIN:DAYLIGHT
TZOFFSETFROM:-0500
TZOFFSETTO:-0400
TZNAME:EDT
DTSTART:20200308T070000
END:DAYLIGHT
BEGIN:STANDARD
TZOFFSETFROM:-0400
TZOFFSETTO:-0500
TZNAME:EST
DTSTART:20201101T060000
END:STANDARD
END:VTIMEZONE
BEGIN:VEVENT
DTSTART;TZID=America/New_York:20190425T091500
DTEND;TZID=America/New_York:20190425T150000
DTSTAMP:20260421T035546
CREATED:20190412T140255Z
LAST-MODIFIED:20240923T131742Z
UID:11196-1556183700-1556204400@leadersinenergy.org
SUMMARY:NOVA Community College Annual Green Festival: Annandale Campus
DESCRIPTION:Thursday\, April 25\, NOVA Community College Annual Green Festival: Annandale Campus – CE Theater Forum & Gym\, 9:15 am – 3:00 pm\nLeaders in Energy will be an exhibitor at the upcoming Green Festival at NOVA Community College. This year’s free-to-attend festival will focus on Biodiversity and Urbanization and showcase tools and research on the challenges of maintaining biodiversity in an urban environment. Register here.
URL:https://leadersinenergy.org/event/nova-community-college-annual-green-festival-annandale-campus/
CATEGORIES:Event
END:VEVENT
END:VCALENDAR