BEGIN:VCALENDAR
VERSION:2.0
PRODID:-//Leaders In Energy - ECPv6.15.17.1//NONSGML v1.0//EN
CALSCALE:GREGORIAN
METHOD:PUBLISH
X-WR-CALNAME:Leaders In Energy
X-ORIGINAL-URL:https://leadersinenergy.org
X-WR-CALDESC:Events for Leaders In Energy
REFRESH-INTERVAL;VALUE=DURATION:PT1H
X-Robots-Tag:noindex
X-PUBLISHED-TTL:PT1H
BEGIN:VTIMEZONE
TZID:America/New_York
BEGIN:DAYLIGHT
TZOFFSETFROM:-0500
TZOFFSETTO:-0400
TZNAME:EDT
DTSTART:20180311T070000
END:DAYLIGHT
BEGIN:STANDARD
TZOFFSETFROM:-0400
TZOFFSETTO:-0500
TZNAME:EST
DTSTART:20181104T060000
END:STANDARD
BEGIN:DAYLIGHT
TZOFFSETFROM:-0500
TZOFFSETTO:-0400
TZNAME:EDT
DTSTART:20190310T070000
END:DAYLIGHT
BEGIN:STANDARD
TZOFFSETFROM:-0400
TZOFFSETTO:-0500
TZNAME:EST
DTSTART:20191103T060000
END:STANDARD
BEGIN:DAYLIGHT
TZOFFSETFROM:-0500
TZOFFSETTO:-0400
TZNAME:EDT
DTSTART:20200308T070000
END:DAYLIGHT
BEGIN:STANDARD
TZOFFSETFROM:-0400
TZOFFSETTO:-0500
TZNAME:EST
DTSTART:20201101T060000
END:STANDARD
END:VTIMEZONE
BEGIN:VEVENT
DTSTART;TZID=America/New_York:20190918T180000
DTEND;TZID=America/New_York:20190918T200000
DTSTAMP:20260421T035114
CREATED:20190908T211827Z
LAST-MODIFIED:20240924T063445Z
UID:12088-1568829600-1568836800@leadersinenergy.org
SUMMARY:Leaders in Energy Circular Economy Working Group Meeting - September 18\, 2019 at Atlas Brew Works
DESCRIPTION:From 6-8 pm on Wednesday\, September 18th\, the working group will hold its monthly meeting at Atlas Brew Works! As you may know\, Atlas is a local pioneer in sustainability\, is 100% solar\, and a recent winner of the DOEE sustainability award. (you can actually track their solar energy production here) We will be taking a tour of the facility\, guided by Atlas staff\, and holding a truncated meeting. Please register for this month’s meeting by filling out this short form.   Location:  2052 West Virginia Ave NE #102\, Washington\, DC 20002 \nWebsite: https://www.atlasbrewworks.com/ \nNo admission fee but on own for purchase of drinks and food. \nLearn more about our Circular Economy Working Group here. \n 
URL:https://leadersinenergy.org/event/leaders-in-energy-circular-economy-working-group-meeting-september-18-2019-at-atlas-brew-works/
LOCATION:Atlas Brew Works\, 2052 West Virginia Ave NE #102\, Washington\, DC\, 20002
CATEGORIES:Event
END:VEVENT
END:VCALENDAR