BEGIN:VCALENDAR
VERSION:2.0
PRODID:-//Leaders In Energy - ECPv6.15.17.1//NONSGML v1.0//EN
CALSCALE:GREGORIAN
METHOD:PUBLISH
X-WR-CALNAME:Leaders In Energy
X-ORIGINAL-URL:https://leadersinenergy.org
X-WR-CALDESC:Events for Leaders In Energy
REFRESH-INTERVAL;VALUE=DURATION:PT1H
X-Robots-Tag:noindex
X-PUBLISHED-TTL:PT1H
BEGIN:VTIMEZONE
TZID:America/New_York
BEGIN:DAYLIGHT
TZOFFSETFROM:-0500
TZOFFSETTO:-0400
TZNAME:EDT
DTSTART:20230312T070000
END:DAYLIGHT
BEGIN:STANDARD
TZOFFSETFROM:-0400
TZOFFSETTO:-0500
TZNAME:EST
DTSTART:20231105T060000
END:STANDARD
BEGIN:DAYLIGHT
TZOFFSETFROM:-0500
TZOFFSETTO:-0400
TZNAME:EDT
DTSTART:20240310T070000
END:DAYLIGHT
BEGIN:STANDARD
TZOFFSETFROM:-0400
TZOFFSETTO:-0500
TZNAME:EST
DTSTART:20241103T060000
END:STANDARD
BEGIN:DAYLIGHT
TZOFFSETFROM:-0500
TZOFFSETTO:-0400
TZNAME:EDT
DTSTART:20250309T070000
END:DAYLIGHT
BEGIN:STANDARD
TZOFFSETFROM:-0400
TZOFFSETTO:-0500
TZNAME:EST
DTSTART:20251102T060000
END:STANDARD
END:VTIMEZONE
BEGIN:VEVENT
DTSTART;VALUE=DATE:20240215
DTEND;VALUE=DATE:20240217
DTSTAMP:20260421T052757
CREATED:20240206T095949Z
LAST-MODIFIED:20240924T095721Z
UID:16233-1707955200-1708127999@leadersinenergy.org
SUMMARY:GUP-24 Green Upskilling Summit by Green Teach
DESCRIPTION:  \n \nLE is pleased to support this two-day free\, online GUP-24 Green Upskilling Summit by Green Teach for Opportunity on February 15-16\, 2024. \nThe green summit convenes education and industry leaders to explore the nexus of job demand and green skills. Its purpose is to help educators support students in landing good jobs that make a difference for humanity and the planet. As the demand for professionals with sustainability expertise spans nearly every field\, this moment presents a unique opportunity for educators to align with the evolving job market and enhance their curriculum. \nThe program will explore opportunities for students in 5 high-demand sectors. A number of the speakers\, Martin Ogle and Marilyn Waite\, have spoken at previous Leaders in Energy Green Jobs Forums. See more details below and at the GUP-24 website 								\n				\n					\n		\n					\n		\n				\n						\n					\n			\n						\n				\n					Learn More and Register Here!				\n				\n					\n		\n					\n		\n				\n						\n					\n			\n						\n				\n					Panel Sessions:				\n				\n					\n		\n					\n		\n				\n						\n					\n			\n						\n				\n									Day 1- February 15\, 2024 Green Finance Skills and Career Paths11 am Eastern Time (US and Canada)Energy\, Construction\, and the Building Trades: Illustrating the All Careers Approach2:30 pm Eastern Time (US and Canada)Education and Advanced Technology: Workforce Gaps & Synergies5 pm Eastern Time (US and Canada)								\n				\n					\n		\n				\n			\n						\n				\n									Day 2-February 16\,2024The Big Trends in Global Green Skills: LinkedIn\, Enterprise Travel\, and Climate Resilience Authorities Weigh In9 am Eastern Time (US and Canada)Biodiversity\, Land\, and Cultures: Skills Education and Career Paths & Teachers’ Roles in Guiding Green Career Paths: Lessons from Around the World12 noon Eastern Time (US and Canada)
URL:https://leadersinenergy.org/event/gup-24-green-upskilling-summit-by-green-teach/
CATEGORIES:Event
END:VEVENT
END:VCALENDAR