BEGIN:VCALENDAR
VERSION:2.0
PRODID:-//Leaders In Energy - ECPv6.15.17.1//NONSGML v1.0//EN
CALSCALE:GREGORIAN
METHOD:PUBLISH
X-WR-CALNAME:Leaders In Energy
X-ORIGINAL-URL:https://leadersinenergy.org
X-WR-CALDESC:Events for Leaders In Energy
REFRESH-INTERVAL;VALUE=DURATION:PT1H
X-Robots-Tag:noindex
X-PUBLISHED-TTL:PT1H
BEGIN:VTIMEZONE
TZID:America/New_York
BEGIN:DAYLIGHT
TZOFFSETFROM:-0500
TZOFFSETTO:-0400
TZNAME:EDT
DTSTART:20130310T070000
END:DAYLIGHT
BEGIN:STANDARD
TZOFFSETFROM:-0400
TZOFFSETTO:-0500
TZNAME:EST
DTSTART:20131103T060000
END:STANDARD
BEGIN:DAYLIGHT
TZOFFSETFROM:-0500
TZOFFSETTO:-0400
TZNAME:EDT
DTSTART:20140309T070000
END:DAYLIGHT
BEGIN:STANDARD
TZOFFSETFROM:-0400
TZOFFSETTO:-0500
TZNAME:EST
DTSTART:20141102T060000
END:STANDARD
BEGIN:DAYLIGHT
TZOFFSETFROM:-0500
TZOFFSETTO:-0400
TZNAME:EDT
DTSTART:20150308T070000
END:DAYLIGHT
BEGIN:STANDARD
TZOFFSETFROM:-0400
TZOFFSETTO:-0500
TZNAME:EST
DTSTART:20151101T060000
END:STANDARD
END:VTIMEZONE
BEGIN:VEVENT
DTSTART;TZID=America/New_York:20140414T120000
DTEND;TZID=America/New_York:20140414T133000
DTSTAMP:20260421T040414
CREATED:20171009T160826Z
LAST-MODIFIED:20240923T114146Z
UID:6864-1397476800-1397482200@leadersinenergy.org
SUMMARY:Fostering Climate Resilience: Financing Mechanisms that Engage the Public
DESCRIPTION:Topic\nDevastating violent weather events in recent years\, such as Superstorm Sandy and Hurricane Katrina\, constitute a portent of a globe gripped by climate change. In many areas threatened by climatic impacts of this nature\, the private sector\, which owns a majority of buildings\, as well as federal\, state\, and local governments\, are grappling with how to protect against loss of life\, property value and essential public services.\nYet\, even as we attempt to incorporate resiliency and sustainability improvements into our buildings and infrastructure systems\, those who maintain these critical systems struggle without direction as to which policies and measures to take. Property owners and stakeholders lack the informational\, connective and financial resources to develop strategy and start projects as well as finance their completion over a long time frame.\nThis presentation focuses on the efforts of The Natural Resilience Fund\, a private non-profit organization to develop financial\, connective and information resources to enable property owners and providers/custodians of infrastructure and natural systems to protect\, enhance and preserve their properties and systems (PEP Measures). The presentation will include discussion of key PEP measures\, sources of capitalization\, and the respective roles of the private and governmental sectors. \nSpeaker\nPresident & CEO\, Eric Kaufman\, of the Natural Resilience FundEric Kaufman serves as the President and CEO of the Natural Resilience Fund\, Inc. He has been actively involved in New York real estate since 1982 as a developer\, sponsor\, owner\, financier\, broker\, contractor and property manager. In his career he has bought\, sold or financed over $1 billion of commercial real estate including many of the downtown New York office building to apartment conversions that were completed in the 1990’s. These projects included 19 Rector Street and the Downtown Athletic Club. In the 1990’s\, Kaufman was the Senior Managing Director at The Carlton Group\, an international real estate investment banking firm that routinely finances large scale real estate backed projects. He was also a Senior Managing Director at the New York Colliers International affiliate and completed in excess of $300 million of New York sales and financings from 2001-2003. \nMr. Kaufman holds a B.A. from Vassar College and an MBA from the Wharton School.
URL:https://leadersinenergy.org/event/fostering-climate-resilience-financing-mechanisms-that-engage-the-public/
LOCATION:Johns Hopkins University\, 1717 Massachusetts Ave NW\, Room 204\, Washington\, DC\, United States
CATEGORIES:Event
END:VEVENT
END:VCALENDAR