BEGIN:VCALENDAR
VERSION:2.0
PRODID:-//Leaders In Energy - ECPv6.15.17.1//NONSGML v1.0//EN
CALSCALE:GREGORIAN
METHOD:PUBLISH
X-WR-CALNAME:Leaders In Energy
X-ORIGINAL-URL:https://leadersinenergy.org
X-WR-CALDESC:Events for Leaders In Energy
REFRESH-INTERVAL;VALUE=DURATION:PT1H
X-Robots-Tag:noindex
X-PUBLISHED-TTL:PT1H
BEGIN:VTIMEZONE
TZID:America/New_York
BEGIN:DAYLIGHT
TZOFFSETFROM:-0500
TZOFFSETTO:-0400
TZNAME:EDT
DTSTART:20180311T070000
END:DAYLIGHT
BEGIN:STANDARD
TZOFFSETFROM:-0400
TZOFFSETTO:-0500
TZNAME:EST
DTSTART:20181104T060000
END:STANDARD
BEGIN:DAYLIGHT
TZOFFSETFROM:-0500
TZOFFSETTO:-0400
TZNAME:EDT
DTSTART:20190310T070000
END:DAYLIGHT
BEGIN:STANDARD
TZOFFSETFROM:-0400
TZOFFSETTO:-0500
TZNAME:EST
DTSTART:20191103T060000
END:STANDARD
BEGIN:DAYLIGHT
TZOFFSETFROM:-0500
TZOFFSETTO:-0400
TZNAME:EDT
DTSTART:20200308T070000
END:DAYLIGHT
BEGIN:STANDARD
TZOFFSETFROM:-0400
TZOFFSETTO:-0500
TZNAME:EST
DTSTART:20201101T060000
END:STANDARD
END:VTIMEZONE
BEGIN:VEVENT
DTSTART;TZID=America/New_York:20190227T180000
DTEND;TZID=America/New_York:20190227T200000
DTSTAMP:20260419T125759
CREATED:20190221T140226Z
LAST-MODIFIED:20240923T132002Z
UID:10900-1551290400-1551297600@leadersinenergy.org
SUMMARY:Feb 27 2019 Circular Economy Working Group Meeting
DESCRIPTION:The theme of our meeting will be “upcycling.”  We will also be “upcycling” our own working group ideas in a new monthly session\, where we workshop and improve ideas generated in a previous month’s meetings. This month we will be upcycling ideas around beer brewing and distribution and the potential of partnering with a local brewery for an upcoming meeting. \nWhen: Wednesday\, February 27th\, from 6:00 pm – 8:00 pm.  \nWhere: 1200 First Street NE\, Washington\, DC 20002 (the corner of 1st and M Streets\, NE). Conference room 709. \nPlease RSVP by clicking here.  \nVisitors are required to check-in and show ID to the lobby attendant. DOEE occupies the 5th\, 6th and 7th floor. Those floors are locked and require badge access. A staff member will escort attendees from the front desk every few minutes at the start of the meeting and then upon request. \nTRANSPORTATION: The DC Department of Energy and Environment is located just 1 block west of the NoMa/Gallaudet Metro Station. There is a Capital Bikeshare station\, bike racks\, street parking\, and parking garages on the same block. \nLanguage Access: Este documento contiene información importante. Si necesita ayuda en Español o si tiene alguna pregunta sobre este aviso\, por favor llame al (202) 407-1277. Infórmele al representante de atención al cliente el idioma que habla para que le proporcione un intérprete sin costo para usted. Gracias. \nA sign language interpreter will be provided by request. Please emailing Danielle Nkojo at Danielle.nkojo@dc.gov five days prior to the event. \nFebruary’s Agenda \n6:00-6:10 Meet and Greet \n6:10-6:30 Introduction of new members and visiting guests \n6:30-6:50 Upcycling: Beer! \n6:50-7:00 Round Robin Project Ideas \n7:00-7:50 Ideas Work-shopping \n7:50-8:00 Report Back on Projects
URL:https://leadersinenergy.org/event/feb-27-2019-circular-economy-working-group-meeting/
LOCATION:DC Department of Energy and Environment\, 1200 First Street NE\, Washington\, DC\, 22202\, United States
CATEGORIES:Event
ORGANIZER;CN="Leaders in Energy":MAILTO:info@leadersinenergy.org
END:VEVENT
END:VCALENDAR