BEGIN:VCALENDAR
VERSION:2.0
PRODID:-//Leaders In Energy - ECPv6.15.17.1//NONSGML v1.0//EN
CALSCALE:GREGORIAN
METHOD:PUBLISH
X-WR-CALNAME:Leaders In Energy
X-ORIGINAL-URL:https://leadersinenergy.org
X-WR-CALDESC:Events for Leaders In Energy
REFRESH-INTERVAL;VALUE=DURATION:PT1H
X-Robots-Tag:noindex
X-PUBLISHED-TTL:PT1H
BEGIN:VTIMEZONE
TZID:America/New_York
BEGIN:DAYLIGHT
TZOFFSETFROM:-0500
TZOFFSETTO:-0400
TZNAME:EDT
DTSTART:20180311T070000
END:DAYLIGHT
BEGIN:STANDARD
TZOFFSETFROM:-0400
TZOFFSETTO:-0500
TZNAME:EST
DTSTART:20181104T060000
END:STANDARD
BEGIN:DAYLIGHT
TZOFFSETFROM:-0500
TZOFFSETTO:-0400
TZNAME:EDT
DTSTART:20190310T070000
END:DAYLIGHT
BEGIN:STANDARD
TZOFFSETFROM:-0400
TZOFFSETTO:-0500
TZNAME:EST
DTSTART:20191103T060000
END:STANDARD
BEGIN:DAYLIGHT
TZOFFSETFROM:-0500
TZOFFSETTO:-0400
TZNAME:EDT
DTSTART:20200308T070000
END:DAYLIGHT
BEGIN:STANDARD
TZOFFSETFROM:-0400
TZOFFSETTO:-0500
TZNAME:EST
DTSTART:20201101T060000
END:STANDARD
END:VTIMEZONE
BEGIN:VEVENT
DTSTART;TZID=America/New_York:20190518T130000
DTEND;TZID=America/New_York:20190518T160000
DTSTAMP:20260421T035303
CREATED:20190509T150019Z
LAST-MODIFIED:20240923T131737Z
UID:11316-1558184400-1558195200@leadersinenergy.org
SUMMARY:Eco Teen Action Network Open House
DESCRIPTION:Janine Finnell\, Leaders in Energy\, will present on the Circular Economy and Leaders in Energy will have a table on the event with information on jobs in the green and circular economy.
URL:https://leadersinenergy.org/event/eco-teen-action-network-open-house/
LOCATION:Conservation Pavilion at Smithsonian’s national zoo\, 3001 Connecticut Ave NW\, Washington\, DC\, United States
CATEGORIES:Event
END:VEVENT
END:VCALENDAR