BEGIN:VCALENDAR
VERSION:2.0
PRODID:-//Leaders In Energy - ECPv6.15.17.1//NONSGML v1.0//EN
CALSCALE:GREGORIAN
METHOD:PUBLISH
X-WR-CALNAME:Leaders In Energy
X-ORIGINAL-URL:https://leadersinenergy.org
X-WR-CALDESC:Events for Leaders In Energy
REFRESH-INTERVAL;VALUE=DURATION:PT1H
X-Robots-Tag:noindex
X-PUBLISHED-TTL:PT1H
BEGIN:VTIMEZONE
TZID:America/New_York
BEGIN:DAYLIGHT
TZOFFSETFROM:-0500
TZOFFSETTO:-0400
TZNAME:EDT
DTSTART:20190310T070000
END:DAYLIGHT
BEGIN:STANDARD
TZOFFSETFROM:-0400
TZOFFSETTO:-0500
TZNAME:EST
DTSTART:20191103T060000
END:STANDARD
BEGIN:DAYLIGHT
TZOFFSETFROM:-0500
TZOFFSETTO:-0400
TZNAME:EDT
DTSTART:20200308T070000
END:DAYLIGHT
BEGIN:STANDARD
TZOFFSETFROM:-0400
TZOFFSETTO:-0500
TZNAME:EST
DTSTART:20201101T060000
END:STANDARD
BEGIN:DAYLIGHT
TZOFFSETFROM:-0500
TZOFFSETTO:-0400
TZNAME:EDT
DTSTART:20210314T070000
END:DAYLIGHT
BEGIN:STANDARD
TZOFFSETFROM:-0400
TZOFFSETTO:-0500
TZNAME:EST
DTSTART:20211107T060000
END:STANDARD
END:VTIMEZONE
BEGIN:VEVENT
DTSTART;TZID=America/New_York:20200122T180000
DTEND;TZID=America/New_York:20200122T193000
DTSTAMP:20260421T040023
CREATED:20200113T161527Z
LAST-MODIFIED:20240924T063444Z
UID:12566-1579716000-1579721400@leadersinenergy.org
SUMMARY:Circular Economy Working Group Meeting - January 22\, 2020
DESCRIPTION:Our next Circular Economy Working Group meeting will be held on Wednesday\, January 22nd at the Cove on 1666 Connecticut Ave\, from 6 pm to 7:30 pm. \nOur night will begin with a full 30 minutes of networking and informal conversation followed by a more organized discussion of a provocative new article from GreenBiz “Its time to trash recycling“.  Given our past conversations on recycling\, and many of the big changes to commodity prices and glass and plastic recycling policy in the DC area\, it will be a lively conversation! So please join us — and read the article in advance. \nThere is no charge to attend these meetings. \nLearn more at: https://leadersinenergy.org/working-group-meeting-circular-economy/
URL:https://leadersinenergy.org/event/circular-economy-working-group-meeting-january-22-2020/
LOCATION:The Cove\, 1666 Connecticut Avenue\, Washington\, DC\, United States
CATEGORIES:Event
END:VEVENT
END:VCALENDAR