BEGIN:VCALENDAR
VERSION:2.0
PRODID:-//Leaders In Energy - ECPv6.15.17.1//NONSGML v1.0//EN
CALSCALE:GREGORIAN
METHOD:PUBLISH
X-WR-CALNAME:Leaders In Energy
X-ORIGINAL-URL:https://leadersinenergy.org
X-WR-CALDESC:Events for Leaders In Energy
REFRESH-INTERVAL;VALUE=DURATION:PT1H
X-Robots-Tag:noindex
X-PUBLISHED-TTL:PT1H
BEGIN:VTIMEZONE
TZID:America/New_York
BEGIN:DAYLIGHT
TZOFFSETFROM:-0500
TZOFFSETTO:-0400
TZNAME:EDT
DTSTART:20180311T070000
END:DAYLIGHT
BEGIN:STANDARD
TZOFFSETFROM:-0400
TZOFFSETTO:-0500
TZNAME:EST
DTSTART:20181104T060000
END:STANDARD
BEGIN:DAYLIGHT
TZOFFSETFROM:-0500
TZOFFSETTO:-0400
TZNAME:EDT
DTSTART:20190310T070000
END:DAYLIGHT
BEGIN:STANDARD
TZOFFSETFROM:-0400
TZOFFSETTO:-0500
TZNAME:EST
DTSTART:20191103T060000
END:STANDARD
BEGIN:DAYLIGHT
TZOFFSETFROM:-0500
TZOFFSETTO:-0400
TZNAME:EDT
DTSTART:20200308T070000
END:DAYLIGHT
BEGIN:STANDARD
TZOFFSETFROM:-0400
TZOFFSETTO:-0500
TZNAME:EST
DTSTART:20201101T060000
END:STANDARD
END:VTIMEZONE
BEGIN:VEVENT
DTSTART;TZID=America/New_York:20191206T180000
DTEND;TZID=America/New_York:20191206T210000
DTSTAMP:20260421T035354
CREATED:20191105T175319Z
LAST-MODIFIED:20240924T063444Z
UID:12304-1575655200-1575666000@leadersinenergy.org
SUMMARY:2019 Four Generations of Leaders Awards & Holiday Celebration
DESCRIPTION:  \nJoin us for our Sixth Annual Four Generations of Leaders in Clean Energy and Sustainable Solutions Awards and Holiday Celebration on Friday\, December 6th\, from 6 – 9 pm. \nLearn more and register at our event webpage here.
URL:https://leadersinenergy.org/event/2019-four-generations-of-leaders-awards-holiday-celebration/
LOCATION:pepco edison gallery\, 702 8th Street NW\, Washington DC\, VA\, 20001\, United States
CATEGORIES:Event
END:VEVENT
END:VCALENDAR